BEGIN:VCALENDAR
VERSION:2.0
PRODID:-//Grand Lodge Knights Of Pythias - ECPv6.15.20//NONSGML v1.0//EN
CALSCALE:GREGORIAN
METHOD:PUBLISH
X-WR-CALNAME:Grand Lodge Knights Of Pythias
X-ORIGINAL-URL:https://kopny.com
X-WR-CALDESC:Events for Grand Lodge Knights Of Pythias
REFRESH-INTERVAL;VALUE=DURATION:PT1H
X-Robots-Tag:noindex
X-PUBLISHED-TTL:PT1H
BEGIN:VTIMEZONE
TZID:America/New_York
BEGIN:DAYLIGHT
TZOFFSETFROM:-0500
TZOFFSETTO:-0400
TZNAME:EDT
DTSTART:20250309T070000
END:DAYLIGHT
BEGIN:STANDARD
TZOFFSETFROM:-0400
TZOFFSETTO:-0500
TZNAME:EST
DTSTART:20251102T060000
END:STANDARD
BEGIN:DAYLIGHT
TZOFFSETFROM:-0500
TZOFFSETTO:-0400
TZNAME:EDT
DTSTART:20260308T070000
END:DAYLIGHT
BEGIN:STANDARD
TZOFFSETFROM:-0400
TZOFFSETTO:-0500
TZNAME:EST
DTSTART:20261101T060000
END:STANDARD
BEGIN:DAYLIGHT
TZOFFSETFROM:-0500
TZOFFSETTO:-0400
TZNAME:EDT
DTSTART:20270314T070000
END:DAYLIGHT
BEGIN:STANDARD
TZOFFSETFROM:-0400
TZOFFSETTO:-0500
TZNAME:EST
DTSTART:20271107T060000
END:STANDARD
END:VTIMEZONE
BEGIN:VEVENT
DTSTART;VALUE=DATE:20260413
DTEND;VALUE=DATE:20260414
DTSTAMP:20260425T171953
CREATED:20260409T175059Z
LAST-MODIFIED:20260409T180443Z
UID:1201-1776038400-1776124799@kopny.com
SUMMARY:Humanitarian Fund Zoom
DESCRIPTION:[vc_row][vc_column]		\n			Monday\, April 13\, 2026\, 07:30pm \nRegular members will be notified of the zoom link.\nOthers please contact GS Steve Gold. \nThe Room will open up at 7:00 PM to assist those needing help getting on to zoom. \n		\n		[/vc_column][/vc_row]
URL:https://kopny.com/event/humanitarian-fund-zoom/
CATEGORIES:Bryan Hoffman
END:VEVENT
BEGIN:VEVENT
DTSTART;TZID=America/New_York:20260410T000000
DTEND;TZID=America/New_York:20260410T000000
DTSTAMP:20260425T171953
CREATED:20260409T173200Z
LAST-MODIFIED:20260409T180443Z
UID:1198-1775779200-1775779200@kopny.com
SUMMARY:*POSTPONED* Homecoming for ACDGC Susan Grill
DESCRIPTION:[vc_row][vc_column][vc_column_text css=”” woodmart_inline=”no” text_larger=”no”]Friday\, April 10\, 2026\, 07:00pm\n \nRamapo Lodge #485 is hosting ACDGC Susan Grill’s Homecoming. A new date will be announced[/vc_column_text][/vc_column][/vc_row]
URL:https://kopny.com/event/postponed-homecoming-for-acdgc-susan-grill/
CATEGORIES:Bryan Hoffman
END:VEVENT
BEGIN:VEVENT
DTSTART;TZID=America/New_York:20260406T193000
DTEND;TZID=America/New_York:20260406T235900
DTSTAMP:20260425T171953
CREATED:20260317T214148Z
LAST-MODIFIED:20260409T212742Z
UID:1084-1775503800-1775519940@kopny.com
SUMMARY:Grand Council Meeting (By Invitation ONLY)
DESCRIPTION:[vc_row][vc_column][vc_column_text css=”” woodmart_inline=”no” text_larger=”no”]The monthly meeting will take place at our headquarters 71 S. Central Ave  Valley Stream NY 11580. Dress for this meeting will be slacks and a  button  down collared shirt. No shorts are to be worn by anyone.[/vc_column_text][/vc_column][/vc_row]
URL:https://kopny.com/event/grand-council-meeting-by-invitation-only/
CATEGORIES:Bryan Hoffman
END:VEVENT
BEGIN:VEVENT
DTSTART;TZID=America/New_York:20260327T190000
DTEND;TZID=America/New_York:20260327T190000
DTSTAMP:20260425T171953
CREATED:20260303T211917Z
LAST-MODIFIED:20260319T205516Z
UID:1043-1774638000-1774638000@kopny.com
SUMMARY:Desk Pen Set Night
DESCRIPTION:[vc_row][vc_column][vc_column_text css=”” woodmart_inline=”no” text_larger=”no”]Friday\, March 27\, 2026\, 07:00pm \nRamapo Lodge #485 is presenting the Desk Pen Set to Grand Chancellor Bryan Hoffman. Wesley Hills Village Hall\, Community Room Castle Hall of Ramapo Lodge\, 432 NY 306 Wesley Hills\, NY.  It is an open meeting. Collation served first. Contact DSC Harvey Rosenshein foodsvce@icloud.com or PDSC Erwin Grill ewg44@aol.com .[/vc_column_text][/vc_column][/vc_row]
URL:https://kopny.com/event/desk-pen-set-night/
CATEGORIES:Bryan Hoffman
END:VEVENT
END:VCALENDAR