BEGIN:VCALENDAR
VERSION:2.0
PRODID:-//Grand Lodge Knights Of Pythias - ECPv6.15.20//NONSGML v1.0//EN
CALSCALE:GREGORIAN
METHOD:PUBLISH
X-WR-CALNAME:Grand Lodge Knights Of Pythias
X-ORIGINAL-URL:https://kopny.com
X-WR-CALDESC:Events for Grand Lodge Knights Of Pythias
REFRESH-INTERVAL;VALUE=DURATION:PT1H
X-Robots-Tag:noindex
X-PUBLISHED-TTL:PT1H
BEGIN:VTIMEZONE
TZID:America/New_York
BEGIN:DAYLIGHT
TZOFFSETFROM:-0500
TZOFFSETTO:-0400
TZNAME:EDT
DTSTART:20250309T070000
END:DAYLIGHT
BEGIN:STANDARD
TZOFFSETFROM:-0400
TZOFFSETTO:-0500
TZNAME:EST
DTSTART:20251102T060000
END:STANDARD
BEGIN:DAYLIGHT
TZOFFSETFROM:-0500
TZOFFSETTO:-0400
TZNAME:EDT
DTSTART:20260308T070000
END:DAYLIGHT
BEGIN:STANDARD
TZOFFSETFROM:-0400
TZOFFSETTO:-0500
TZNAME:EST
DTSTART:20261101T060000
END:STANDARD
BEGIN:DAYLIGHT
TZOFFSETFROM:-0500
TZOFFSETTO:-0400
TZNAME:EDT
DTSTART:20270314T070000
END:DAYLIGHT
BEGIN:STANDARD
TZOFFSETFROM:-0400
TZOFFSETTO:-0500
TZNAME:EST
DTSTART:20271107T060000
END:STANDARD
END:VTIMEZONE
BEGIN:VEVENT
DTSTART;TZID=America/New_York:20260614T130000
DTEND;TZID=America/New_York:20260614T170000
DTSTAMP:20260425T115247
CREATED:20260317T222210Z
LAST-MODIFIED:20260409T213246Z
UID:1111-1781442000-1781456400@kopny.com
SUMMARY:Grand Chancellor’s Dinner
DESCRIPTION:[vc_row][vc_column][vc_column_text css=”” woodmart_inline=”no” text_larger=”no”]Grand Lodge of New York honors Grand Chancellor Bryan Hoffman and Grand Secretary Steven Gold at our annual gala dinner. Contact your home lodge for more information and subsidy. Temple Avodah of Oceanside 3050 Oceanside Road Oceanside\, New York 11572[/vc_column_text][/vc_column][/vc_row]
URL:https://kopny.com/event/grand-chancellors-dinner/
CATEGORIES:Bryan Hoffman
END:VEVENT
BEGIN:VEVENT
DTSTART;TZID=America/New_York:20260717T080000
DTEND;TZID=America/New_York:20260719T170000
DTSTAMP:20260425T115247
CREATED:20260409T180711Z
LAST-MODIFIED:20260409T180725Z
UID:1214-1784275200-1784480400@kopny.com
SUMMARY:CRIERS WEEKEND
DESCRIPTION:[vc_row][vc_column]		\n			From Friday\, July 17\, 2026 –  08:00am\nTo Sunday\, July 19\, 2026 – 05:00pm \nBethlehem\, PA July 17 – 19 \n		\n		[/vc_column][/vc_row]
URL:https://kopny.com/event/criers-weekend/
CATEGORIES:Bryan Hoffman
END:VEVENT
END:VCALENDAR