BEGIN:VCALENDAR
VERSION:2.0
PRODID:-//Grand Lodge Knights Of Pythias - ECPv6.15.20//NONSGML v1.0//EN
CALSCALE:GREGORIAN
METHOD:PUBLISH
X-WR-CALNAME:Grand Lodge Knights Of Pythias
X-ORIGINAL-URL:https://kopny.com
X-WR-CALDESC:Events for Grand Lodge Knights Of Pythias
REFRESH-INTERVAL;VALUE=DURATION:PT1H
X-Robots-Tag:noindex
X-PUBLISHED-TTL:PT1H
BEGIN:VTIMEZONE
TZID:America/New_York
BEGIN:DAYLIGHT
TZOFFSETFROM:-0500
TZOFFSETTO:-0400
TZNAME:EDT
DTSTART:20250309T070000
END:DAYLIGHT
BEGIN:STANDARD
TZOFFSETFROM:-0400
TZOFFSETTO:-0500
TZNAME:EST
DTSTART:20251102T060000
END:STANDARD
BEGIN:DAYLIGHT
TZOFFSETFROM:-0500
TZOFFSETTO:-0400
TZNAME:EDT
DTSTART:20260308T070000
END:DAYLIGHT
BEGIN:STANDARD
TZOFFSETFROM:-0400
TZOFFSETTO:-0500
TZNAME:EST
DTSTART:20261101T060000
END:STANDARD
BEGIN:DAYLIGHT
TZOFFSETFROM:-0500
TZOFFSETTO:-0400
TZNAME:EDT
DTSTART:20270314T070000
END:DAYLIGHT
BEGIN:STANDARD
TZOFFSETFROM:-0400
TZOFFSETTO:-0500
TZNAME:EST
DTSTART:20271107T060000
END:STANDARD
END:VTIMEZONE
BEGIN:VEVENT
DTSTART;TZID=America/New_York:20260515T190000
DTEND;TZID=America/New_York:20260515T220000
DTSTAMP:20260425T134114
CREATED:20260317T221702Z
LAST-MODIFIED:20260409T212847Z
UID:1103-1778871600-1778882400@kopny.com
SUMMARY:Criers Lodge GC Honor Night
DESCRIPTION:[vc_row][vc_column][vc_column_text css=”” woodmart_inline=”no” text_larger=”no”]Criers Lodge #651 will honor the Grand Chancellor Bryan Hoffman and Grand Secretary Steven Gold. This is a Closed Meeting at the AOH (2750 Gerritsen Avenue). RSVP to Robert Banks RobertBankscpa@gmail.com Collation before presentation.[/vc_column_text][/vc_column][/vc_row]
URL:https://kopny.com/event/criers-lodge-gc-honor-night/
CATEGORIES:Bryan Hoffman
END:VEVENT
BEGIN:VEVENT
DTSTART;TZID=America/New_York:20260517T120000
DTEND;TZID=America/New_York:20260517T120000
DTSTAMP:20260425T134114
CREATED:20260317T221818Z
LAST-MODIFIED:20260409T212925Z
UID:1105-1779019200-1779019200@kopny.com
SUMMARY:DOKK Luncheon
DESCRIPTION:[vc_row][vc_column][vc_column_text css=”” woodmart_inline=”no” text_larger=”no”]Salaam Temple #145 and Habibi Temple# 72 are honoring Grand Chancellor Bryan Hoffman and Grand Secretary Steven Gold. Lenny’s Clam Bar 161-03 Cross Bay Blvd\, Howard Beach\, NY. Price to follow. For Salaam Temple\, contact Alex Needelman monica1673@yahoo.com. For Habibi Temple\, contact Roger Siegel rsiegel172000@yahoo.com.[/vc_column_text][/vc_column][/vc_row]
URL:https://kopny.com/event/dokk-luncheon/
CATEGORIES:Bryan Hoffman
END:VEVENT
BEGIN:VEVENT
DTSTART;TZID=America/New_York:20260526T190000
DTEND;TZID=America/New_York:20260526T220000
DTSTAMP:20260425T134114
CREATED:20260409T175858Z
LAST-MODIFIED:20260413T204215Z
UID:1207-1779822000-1779832800@kopny.com
SUMMARY:Rex Lodge - Sword Night
DESCRIPTION:[vc_row][vc_column]		\n			Rex Lodge presents the Sword to Grand Chancellor Bryan Hoffman.  This is a Closed meeting at the AOH (2750 Gerritsen Avenue). Must RSVP for Pre-Program Dinner. Collation to be served before the presentation @ 7pm.  RSVP is a must to order enough food.  More information to follow.  Contact person is Phil Feigel email: rabbitt54@aol.com \n		\n		[/vc_column][/vc_row]
URL:https://kopny.com/event/rex-lodge-sword-night/
CATEGORIES:Bryan Hoffman
END:VEVENT
BEGIN:VEVENT
DTSTART;TZID=America/New_York:20260528T190000
DTEND;TZID=America/New_York:20260528T220000
DTSTAMP:20260425T134114
CREATED:20260317T221925Z
LAST-MODIFIED:20260409T213127Z
UID:1107-1779994800-1780005600@kopny.com
SUMMARY:GC Bryan Hoffman Homecoming
DESCRIPTION:[vc_row][vc_column][vc_column_text css=”” woodmart_inline=”no” text_larger=”no”]King Solomon Utopia Lodge #400 will host the Grand Chancellor Homecoming for Bryan Hoffman at the AOH 2750 Gerritsen Ave\, Brooklyn\, NY 11229. Open Meeting. Collation to be served at 7:00 before the meeting. Contact CDGC Alex Needelman by email only monica1673@yahoo.com[/vc_column_text][/vc_column][/vc_row]
URL:https://kopny.com/event/gc-bryan-hoffman-homecoming/
CATEGORIES:Bryan Hoffman
END:VEVENT
BEGIN:VEVENT
DTSTART;TZID=America/New_York:20260601T193000
DTEND;TZID=America/New_York:20260601T220000
DTSTAMP:20260425T134114
CREATED:20260317T222025Z
LAST-MODIFIED:20260409T212559Z
UID:1109-1780342200-1780351200@kopny.com
SUMMARY:Grand Council Meeting (By Invitation ONLY)
DESCRIPTION:[vc_row][vc_column][vc_column_text css=”” woodmart_inline=”no” text_larger=”no”]The monthly meeting will take place at our headquarters 71 S. Central Ave Valley Stream NY 11580. Dress for this meeting will be slacks and a button down collared shirt. No shorts are to be worn by anyone.[/vc_column_text][/vc_column][/vc_row]
URL:https://kopny.com/event/grand-council-meeting-by-invitation-only-3/
CATEGORIES:Bryan Hoffman
END:VEVENT
BEGIN:VEVENT
DTSTART;TZID=America/New_York:20260610T120000
DTEND;TZID=America/New_York:20260610T170000
DTSTAMP:20260425T134114
CREATED:20260409T180041Z
LAST-MODIFIED:20260409T213202Z
UID:1209-1781092800-1781110800@kopny.com
SUMMARY:3 in 1 Rank
DESCRIPTION:[vc_row][vc_column]		\n			Knickerbocker Lodge #510 will be holding a rank at Vivo! Restaurant\, located at 201-10 Cross Island Pkwy\, Bayside\, NY. Reservations a must. Contact Henry Gutterman\, hmgfd1@msn.com 917 754-9544. Candidates and sponsor are invited for lunch at Noon provided by Knickerbocker Lodge. Ranks will commence at 1 PM. \n		\n		[/vc_column][/vc_row]
URL:https://kopny.com/event/3-in-1-rank/
CATEGORIES:Bryan Hoffman
END:VEVENT
BEGIN:VEVENT
DTSTART;TZID=America/New_York:20260613T130000
DTEND;TZID=America/New_York:20260613T170000
DTSTAMP:20260425T134114
CREATED:20260409T180337Z
LAST-MODIFIED:20260409T213230Z
UID:1212-1781355600-1781370000@kopny.com
SUMMARY:American Cancer Society Relay for Life
DESCRIPTION:[vc_row][vc_column]		\n			Please join us for the Relay for Life at Parkville Youth Organization Saturday June 13 at 1:00 PM 854 65th Street\, Brooklyn. Please Donate money to the 2026 American Cancer Society Pythian Relay for Life Team. TO DONATE: GOOGLE: Relay for Life and click on the first link SCROLL DOWN to “FIND A PARTICIPANT OR TEAM” TYPE IN “PYTHIAS” and press SEARCH. NO DONATION TOO SMALL!!! TOGETHER\, WE CAN GET RID OF CANCER. For more information contact GOG\, David Salem BRDWAYDAVE@aol.com \n		\n		[/vc_column][/vc_row]
URL:https://kopny.com/event/american-cancer-society-relay-for-life/
CATEGORIES:Bryan Hoffman
END:VEVENT
BEGIN:VEVENT
DTSTART;TZID=America/New_York:20260614T130000
DTEND;TZID=America/New_York:20260614T170000
DTSTAMP:20260425T134114
CREATED:20260317T222210Z
LAST-MODIFIED:20260409T213246Z
UID:1111-1781442000-1781456400@kopny.com
SUMMARY:Grand Chancellor’s Dinner
DESCRIPTION:[vc_row][vc_column][vc_column_text css=”” woodmart_inline=”no” text_larger=”no”]Grand Lodge of New York honors Grand Chancellor Bryan Hoffman and Grand Secretary Steven Gold at our annual gala dinner. Contact your home lodge for more information and subsidy. Temple Avodah of Oceanside 3050 Oceanside Road Oceanside\, New York 11572[/vc_column_text][/vc_column][/vc_row]
URL:https://kopny.com/event/grand-chancellors-dinner/
CATEGORIES:Bryan Hoffman
END:VEVENT
BEGIN:VEVENT
DTSTART;TZID=America/New_York:20260717T080000
DTEND;TZID=America/New_York:20260719T170000
DTSTAMP:20260425T134114
CREATED:20260409T180711Z
LAST-MODIFIED:20260409T180725Z
UID:1214-1784275200-1784480400@kopny.com
SUMMARY:CRIERS WEEKEND
DESCRIPTION:[vc_row][vc_column]		\n			From Friday\, July 17\, 2026 –  08:00am\nTo Sunday\, July 19\, 2026 – 05:00pm \nBethlehem\, PA July 17 – 19 \n		\n		[/vc_column][/vc_row]
URL:https://kopny.com/event/criers-weekend/
CATEGORIES:Bryan Hoffman
END:VEVENT
END:VCALENDAR